BEGIN:VCALENDAR
VERSION:2.0
PRODID:-//NABU Großrinderfeld - ECPv6.15.12.2//NONSGML v1.0//EN
CALSCALE:GREGORIAN
METHOD:PUBLISH
X-WR-CALNAME:NABU Großrinderfeld
X-ORIGINAL-URL:https://www.nabu-grossrinderfeld.de
X-WR-CALDESC:Veranstaltungen für NABU Großrinderfeld
REFRESH-INTERVAL;VALUE=DURATION:PT1H
X-Robots-Tag:noindex
X-PUBLISHED-TTL:PT1H
BEGIN:VTIMEZONE
TZID:UTC
BEGIN:STANDARD
TZOFFSETFROM:+0000
TZOFFSETTO:+0000
TZNAME:UTC
DTSTART:20250101T000000
END:STANDARD
END:VTIMEZONE
BEGIN:VEVENT
DTSTART;TZID=UTC:20260117T130000
DTEND;TZID=UTC:20260117T160000
DTSTAMP:20260425T041928
CREATED:20260115T154302Z
LAST-MODIFIED:20260115T154302Z
UID:1602-1768654800-1768665600@www.nabu-grossrinderfeld.de
SUMMARY:NAJU Nistkastenreinigung
DESCRIPTION:Am Samstag\, 17. Januar treffen wir uns um 13.00 Uhr am Bauhof. Gemeinsam marschieren wir zum Löhlein\num dort mit Euch die NABU-Nistkästen zu reinigen. Wie jedes Jahr versuchen wir dabei auch festzustellen\,\nwer im Nistkasten zu Gast war.\nMitbringen könnt ihr Verpflegung\, Bestimmungsbuch\, Becherlupe\, Fernglas\, etc.\nGegen 16.00 Uhr wollen wir wieder am Treffpunkt sein.\nBei schlechtem Wetter verschiebt sich die Aktion!\nBitte anmelden bei Vicky\, Uschi\, Manu oder Elke vom NAJU-Team Tel.: 9282153 (Fam. Mützel)\nEingeladen sind wieder alle Kinder ab der 1. Klasse.
URL:https://www.nabu-grossrinderfeld.de/event/naju-nistkastenreinigung/
LOCATION:Bauhof\, Brunntaler Str. 15\, Großrinderfeld\, Deutschland\, 97950\, Germany
CATEGORIES:NAJU Großrinderfeld
END:VEVENT
END:VCALENDAR